{"text_format":"1","workbook":"xlsx","n_sheets":6,"sheets":["Баланс энергии","Баланс мощности","Расходы ком. учет","НВВ по данным экспертов","TEHSHEET","Лист1"],"not_rendered":{"charts":0,"images":0,"macros":1,"external_links":5,"defined_names":420,"comments":0,"pivot_tables":0},"unopened":[],"bounds":{"document_bytes":16777216,"sheet_cells":100000,"rows_first":2000,"rows_last":500,"rows_between":2000,"halvings":0,"cell_chars":16384,"cell_head_chars":4096},"cells_cut":0,"cells_raw":0,"read":"whole","date_system":"1900"}

{"sheet":"Баланс энергии","index":0,"n_rows":25,"n_cols":47,"rows_kept":25,"cut":false,"hidden":false,"merged":[[4,37,4,41],[4,42,4,46],[2,0,2,6],[2,7,2,46],[1,10,1,11],[4,17,4,21],[4,22,4,26],[1,5,1,6],[4,27,4,31],[4,32,4,36],[4,7,4,11],[4,12,4,16],[4,0,5,0],[4,1,5,1],[4,2,4,6]]}
["Заполняется в тыс. кВт.ч. !",null,null,null,null,null,null,null,null,null,null,null,null,null,null,null,null,null,null,null,null,null,null,null,null,null,null,null,null,null,null,"тыс. кВт.ч."]
[]
["Баланс электрической энергии по сетям ВН, СН1, СН2, и НН",null,null,null,null,null,null,{"$f":"#REF!","v":{"$error":"#REF!"}}]
[]
["№ п.п.","Показатели","Принято регулирующим органом на 2023 год",null,null,null,null,"Факт за 2023 год",null,null,null,null,"Принято регулирующим органом на 2024 год",null,null,null,null,"По данным организации на 2025 год",null,null,null,null,"По данным организации на 1 полугодие 2025 года",null,null,null,null,"По данным организации на 2 полугодие 2025 года",null,null,null,null,"По данным экспертов на 2025 год",null,null,null,null,"По данным экспертов  на 1 полугодие 2025 года",null,null,null,null,"По данным экспертов на 2 полугодие 2025 года"]
[null,null,"Всего","ВН","СН1","СН2","НН","Всего","ВН","СН1","СН2","НН","Всего","ВН","СН1","СН2","НН","Всего","ВН","СН1","СН2","НН","Всего","ВН","СН1","СН2","НН","Всего","ВН","СН1","СН2","НН","Всего","ВН","СН1","СН2","НН","Всего","ВН","СН1","СН2","НН","Всего","ВН","СН1","СН2","НН"]
[1,2,3,4,5,6,7,18,19,20,21,22,33,34,35,36,37,48,49,50,51,52,53,54,55,56,57,58,59,60,61,62,63,64,65,66,67,53,54,55,56,57,58,59,60,61,62]
["1.","Поступление эл.энергии в сеть , ВСЕГО ",{"$f":"C18+C20+C21","v":182430.55580820312},{"$f":"D14+D15+D16+D17","v":179517.36258989471},{"$f":"E9+E14+E15+E16+E17","v":2599.3750767977458},{"$f":"F9+F14+F15+F16+F17","v":182430.55580820312},{"$f":"G9+G14+G15+G16+G17","v":102351.09924133544},{"$f":"H18+H20+H21","v":185376.03400000001},{"$f":"I14+I15+I16+I17","v":182033.28100000002},{"$f":"J9+J14+J15+J16+J17","v":3311.04},{"$f":"K9+K14+K15+K16+K17","v":185376.03400000001},{"$f":"L9+L14+L15+L16+L17","v":103354.6391},{"$f":"M18+M20+M21","v":186963.84200000009},{"$f":"N14+N15+N16+N17","v":183399.4500000001},{"$f":"O9+O14+O15+O16+O17","v":3344.0620000000017},{"$f":"P9+P14+P15+P16+P17","v":186963.84200000009},{"$f":"Q9+Q14+Q15+Q16+Q17","v":105805.69770835018},{"$f":"R18+R20+R21","v":185376.03400000001},{"$f":"S14+S15+S16+S17","v":182064.99400000001},{"$f":"T9+T14+T15+T16+T17","v":3311.04},{"$f":"U9+U14+U15+U16+U17","v":185376.03400000001},{"$f":"V9+V14+V15+V16+V17","v":103354.6391},{"$f":"W18+W20+W21","v":92976.31},{"$f":"X14+X15+X16+X17","v":91337.519},{"$f":"Y9+Y14+Y15+Y16+Y17","v":1638.7909999999999},{"$f":"Z9+Z14+Z15+Z16+Z17","v":92976.31},{"$f":"AA9+AA14+AA15+AA16+AA17","v":51931.441899999998},{"$f":"AB18+AB20+AB21","v":92399.724000000002},{"$f":"AC14+AC15+AC16+AC17","v":90727.475000000006},{"$f":"AD9+AD14+AD15+AD16+AD17","v":1672.249},{"$f":"AE9+AE14+AE15+AE16+AE17","v":92399.724000000002},{"$f":"AF9+AF14+AF15+AF16+AF17","v":51423.197200000002},{"$f":"AG18+AG20+AG21","v":0},{"$f":"AH14+AH15+AH16+AH17","v":0},{"$f":"AI9+AI14+AI15+AI16+AI17","v":0},{"$f":"AJ9+AJ14+AJ15+AJ16+AJ17","v":0},{"$f":"AK9+AK14+AK15+AK16+AK17","v":0},{"$f":"AL18+AL20+AL21","v":0},{"$f":"AM14+AM15+AM16+AM17","v":0},{"$f":"AN9+AN14+AN15+AN16+AN17","v":0},{"$f":"AO9+AO14+AO15+AO16+AO17","v":0},{"$f":"AP9+AP14+AP15+AP16+AP17","v":0},{"$f":"AQ18+AQ20+AQ21","v":0},{"$f":"AR14+AR15+AR16+AR17","v":0},{"$f":"AS9+AS14+AS15+AS16+AS17","v":0},{"$f":"AT9+AT14+AT15+AT16+AT17","v":0},{"$f":"AU9+AU14+AU15+AU16+AU17","v":0}]
["1.1.","из смежной сети, всего","х","х",{"$f":"E11","v":0},{"$f":"F11+F12","v":182116.73766669244},{"$f":"G11+G12+G13","v":102351.09924133544},"х","х",{"$f":"J11","v":0},{"$f":"K11+K12","v":185344.32100000003},{"$f":"L11+L12+L13","v":103354.6391},"х","х",{"$f":"O11","v":0},{"$f":"P11+P12","v":186743.5120000001},{"$f":"Q11+Q12+Q13","v":105805.69770835018},"х","х",{"$f":"T11","v":0},{"$f":"U11+U12","v":185376.03400000001},{"$f":"V11+V12+V13","v":103354.6391},"х","х",{"$f":"Y11","v":0},{"$f":"Z11+Z12","v":92976.31},{"$f":"AA11+AA12+AA13","v":51931.441899999998},"х","х",{"$f":"AD11","v":0},{"$f":"AE11+AE12","v":92399.724000000002},{"$f":"AF11+AF12+AF13","v":51423.197200000002},"х","х",{"$f":"AI11","v":0},{"$f":"AJ11+AJ12","v":0},{"$f":"AK11+AK12+AK13","v":0},"х","х",{"$f":"AN11","v":0},{"$f":"AO11+AO12","v":0},{"$f":"AP11+AP12+AP13","v":0},"х","х",{"$f":"AS11","v":0},{"$f":"AT11+AT12","v":0},{"$f":"AU11+AU12+AU13","v":0}]
[null,"    в том числе из сети","х","х","х","х","х","х","х","х","х","х","х","х","х","х","х","х","х","х","х","х","х","х","х","х","х","х","х","х","х","х","х","х","х","х","х","х","х","х","х","х","х","х","х","х","х"]
["1.1.1.","ВН","х","х",null,{"$f":"D8-D18-D20-D21-E11-G11","v":179517.36258989471},null,"х","х",null,{"$f":"I8-I18-I20-I21-J11-L11","v":182033.28100000002},null,"х","х",null,{"$f":"N8-N18-N20-N21-O11-Q11","v":183399.4500000001},null,"х","х",null,{"$f":"S8-S18-S20-S21-T11-V11","v":182064.99400000001},null,"х","х",null,{"$f":"X8-X18-X20-X21-Y11-AA11","v":91337.519},null,"х","х",null,{"$f":"AC8-AC18-AC20-AC21-AD11-AF11","v":90727.475000000006},null,"х","х",null,{"$f":"AH8-AH18-AH20-AH21-AI11-AK11","v":0},null,"х","х",null,{"$f":"AM8-AM18-AM20-AM21-AN11-AP11","v":0},null,"х","х",null,{"$f":"AR8-AR18-AR20-AR21-AS11-AU11","v":0}]
["1.1.2.","СН1","х","х","х",{"$f":"E8-E18-E20-E21-G12","v":2599.3750767977458},null,"х","х","х",{"$f":"J8-J18-J20-J21-L12","v":3311.04},null,"х","х","х",{"$f":"O8-O18-O20-O21-Q12","v":3344.0620000000017},null,"х","х","х",{"$f":"T8-T18-T20-T21-V12","v":3311.04},null,"х","х","х",{"$f":"Y8-Y18-Y20-Y21-AA12","v":1638.7909999999999},null,"х","х","х",{"$f":"AD8-AD18-AD20-AD21-AF12","v":1672.249},null,"х","х","х",{"$f":"AI8-AI18-AI20-AI21-AK12","v":0},null,"х","х","х",{"$f":"AN8-AN18-AN20-AN21-AP12","v":0},null,"х","х","х",{"$f":"AS8-AS18-AS20-AS21-AU12","v":0}]
["1.1.3.","СН2","х","х","х","х",{"$f":"F8-F18-F20-F21","v":102351.09924133544},"х","х","х","х",{"$f":"K8-K18-K20-K21","v":103354.6391},"х","х","х","х",{"$f":"P8-P18-P20-P21","v":105805.69770835018},"х","х","х","х",{"$f":"U8-U18-U20-U21","v":103354.6391},"х","х","х","х",{"$f":"Z8-Z18-Z20-Z21","v":51931.441899999998},"х","х","х","х",{"$f":"AE8-AE18-AE20-AE21","v":51423.197200000002},"х","х","х","х",{"$f":"AJ8-AJ18-AJ20-AJ21","v":0},"х","х","х","х",{"$f":"AO8-AO18-AO20-AO21","v":0},"х","х","х","х",{"$f":"AT8-AT18-AT20-AT21","v":0}]
["1.2.","от электростанций",{"$f":"SUM(D14:G14)","v":0},null,null,null,null,{"$f":"SUM(I14:L14)","v":0},null,null,null,null,{"$f":"SUM(N14:Q14)","v":0},null,null,null,null,{"$f":"SUM(S14:V14)","v":0},null,null,null,null,{"$f":"SUM(X14:AA14)","v":0},null,null,null,null,{"$f":"SUM(AC14:AF14)","v":0},null,null,null,null,{"$f":"SUM(AH14:AK14)","v":0},null,null,null,null,{"$f":"SUM(AM14:AP14)","v":0},null,null,null,null,{"$f":"SUM(AR14:AU14)","v":0}]
["1.3.","от ПАО \"Россети ФСК ЕЭС\"",{"$f":"SUM(D15:G15)","v":0},null,null,null,null,{"$f":"SUM(I15:L15)","v":0},null,null,null,null,{"$f":"SUM(N15:Q15)","v":0},null,null,null,null,{"$f":"SUM(S15:V15)","v":0},null,null,null,null,{"$f":"SUM(X15:AA15)","v":0},null,null,null,null,{"$f":"SUM(AC15:AF15)","v":0},null,null,null,null,{"$f":"SUM(AH15:AK15)","v":0},null,null,null,null,{"$f":"SUM(AM15:AP15)","v":0},null,null,null,null,{"$f":"SUM(AR15:AU15)","v":0}]
["1.4.","от филиала \"Владимирэнерго\" ПАО «Россети Центр и Приволжье»",{"$f":"SUM(D16:G16)","v":182116.73766669244},179517.36258989471,2599.3750767977458,null,null,{"$f":"SUM(I16:L16)","v":185376.03400000001},182033.28100000002,3311.04,31.713000000000001,null,{"$f":"SUM(N16:Q16)","v":186743.5120000001},183399.4500000001,3344.0620000000017,0,null,{"$f":"SUM(S16:V16)","v":185376.03400000001},{"$f":"X16+AC16","v":182064.99400000001},{"$f":"Y16+AD16","v":3311.04},0,0,{"$f":"SUM(X16:AA16)","v":92976.31},91337.519,1638.7909999999999,null,null,{"$f":"SUM(AC16:AF16)","v":92399.724000000002},90727.475000000006,1672.249,null,null,{"$f":"SUM(AH16:AK16)","v":0},null,null,null,null,{"$f":"SUM(AM16:AP16)","v":0},null,null,null,null,{"$f":"SUM(AR16:AU16)","v":0}]
["1.5.","от других сетевых организаций",{"$f":"SUM(D17:G17)","v":313.81814151068653},null,null,313.81814151068653,null,{"$f":"SUM(I17:L17)","v":0},null,null,null,null,{"$f":"SUM(N17:Q17)","v":220.33000000000007},0,0,220.33000000000007,null,{"$f":"SUM(S17:V17)","v":0},null,null,null,null,{"$f":"SUM(X17:AA17)","v":0},null,null,null,null,{"$f":"SUM(AC17:AF17)","v":0},null,null,null,null,{"$f":"SUM(AH17:AK17)","v":0},null,null,null,null,{"$f":"SUM(AM17:AP17)","v":0},null,null,null,null,{"$f":"SUM(AR17:AU17)","v":0}]
["2.","Потери электроэнергии в сети ",{"$f":"SUM(D18:G18)","v":13372.095708203138},{"$f":"D8*D19/100","v":0},{"$f":"E8*E19/100","v":0},{"$f":"F8*F19/100","v":7151.2777876815635},{"$f":"G8*G19/100","v":6220.8179205215747},{"$f":"SUM(I18:L18)","v":13424.342200000006},{"$f":"I8*I19/100","v":0},{"$f":"J8*J19/100","v":0},{"$f":"K8*K19/100","v":6999.1939000000057},{"$f":"L8*L19/100","v":6425.1482999999998},{"$f":"SUM(N18:Q18)","v":13704.5},{"$f":"N8*N19/100","v":0},{"$f":"O8*O19/100","v":0},{"$f":"P8*P19/100","v":7328.9826064000044},{"$f":"Q8*Q19/100","v":6375.5173935999956},{"$f":"SUM(S18:V18)","v":13424.342200000006},{"$f":"S8*S19/100","v":0},{"$f":"T8*T19/100","v":0},{"$f":"U8*U19/100","v":6999.1939000000057},{"$f":"V8*V19/100","v":6425.1482999999998},{"$f":"SUM(X18:AA18)","v":6330.7779999999984},{"$f":"X8*X19/100","v":0},{"$f":"Y8*Y19/100","v":0},{"$f":"Z8*Z19/100","v":3385.7000999999996},{"$f":"AA8*AA19/100","v":2945.0778999999993},{"$f":"SUM(AC18:AF18)","v":7093.5641000000005},{"$f":"AC8*AC19/100","v":0},{"$f":"AD8*AD19/100","v":0},{"$f":"AE8*AE19/100","v":3613.4938000000002},{"$f":"AF8*AF19/100","v":3480.0703000000003},{"$f":"SUM(AH18:AK18)","v":0},{"$f":"AH8*AH19/100","v":0},{"$f":"AI8*AI19/100","v":0},{"$f":"AJ8*AJ19/100","v":0},{"$f":"AK8*AK19/100","v":0},{"$f":"SUM(AM18:AP18)","v":0},{"$f":"AM8*AM19/100","v":0},{"$f":"AN8*AN19/100","v":0},{"$f":"AO8*AO19/100","v":0},{"$f":"AP8*AP19/100","v":0},{"$f":"SUM(AR18:AU18)","v":0},{"$f":"AR8*AR19/100","v":0},{"$f":"AS8*AS19/100","v":0},{"$f":"AT8*AT19/100","v":0},{"$f":"AU8*AU19/100","v":0}]
["2.1.","то же в % (п.2./п.1.)",{"$f":"IF(C8=0,0,C18/C8*100)","v":7.3299649003217322},null,null,3.9200000000000004,6.0779199897535046,{"$f":"IF(H8=0,0,H18/H8*100)","v":7.2416816296760373},null,null,3.7756735587514001,6.2166036821853696,{"$f":"IF(M8=0,0,M18/M8*100)","v":7.3300269471355817},null,null,3.9200000000000004,6.0256843739870165,{"$f":"IF(R8=0,0,R18/R8*100)","v":7.2416816296760373},null,null,3.7756735587514001,6.2166036821853696,{"$f":"IF(W8=0,0,W18/W8*100)","v":6.8090226424343996},null,null,3.6414653367078125,5.6710882506807492,{"$f":"IF(AB8=0,0,AB18/AB8*100)","v":7.6770403556616689},null,null,3.910719257126785,6.7675105584450126,{"$f":"IF(AG8=0,0,AG18/AG8*100)","v":0},null,null,null,null,{"$f":"IF(AL8=0,0,AL18/AL8*100)","v":0},null,null,null,null,{"$f":"IF(AQ8=0,0,AQ18/AQ8*100)","v":0}]
["3.","Расход электроэнергии на производственные и хознужды",{"$f":"SUM(D20:G20)","v":0},null,null,null,null,{"$f":"SUM(I20:L20)","v":0},null,null,null,null,{"$f":"SUM(N20:Q20)","v":0},null,null,null,null,{"$f":"SUM(S20:V20)","v":0},null,null,null,null,{"$f":"SUM(X20:AA20)","v":0},null,null,null,null,{"$f":"SUM(AC20:AF20)","v":0},null,null,null,null,{"$f":"SUM(AH20:AK20)","v":0},null,null,null,null,{"$f":"SUM(AM20:AP20)","v":0},null,null,null,null,{"$f":"SUM(AR20:AU20)","v":0}]
["4.","Полезный отпуск из сети ",{"$f":"SUM(D21:G21)","v":169058.4601},{"$f":"D22+D23+D24","v":0},{"$f":"E22+E23+E24","v":0},{"$f":"F22+F23+F24","v":72928.178779186128},{"$f":"G8-G18-G20","v":96130.281320813869},{"$f":"SUM(I21:L21)","v":171951.6918},{"$f":"I22+I23+I24","v":0},{"$f":"J22+J23+J24","v":0},{"$f":"K22+K23+K24","v":75022.201000000001},{"$f":"L8-L18-L20","v":96929.4908},{"$f":"SUM(N21:Q21)","v":173259.34200000009},{"$f":"N22+N23+N24","v":0},{"$f":"O22+O23+O24","v":0},{"$f":"P22+P23+P24","v":73829.161685249899},{"$f":"Q8-Q18-Q20","v":99430.180314750192},{"$f":"SUM(S21:V21)","v":171951.6918},{"$f":"S22+S23+S24","v":0},{"$f":"T22+T23+T24","v":0},{"$f":"U22+U23+U24","v":75022.201000000001},{"$f":"V8-V18-V20","v":96929.4908},{"$f":"SUM(X21:AA21)","v":86645.532000000007},{"$f":"X22+X23+X24","v":0},{"$f":"Y22+Y23+Y24","v":0},{"$f":"Z22+Z23+Z24","v":37659.167999999998},{"$f":"AA8-AA18-AA20","v":48986.364000000001},{"$f":"SUM(AC21:AF21)","v":85306.159899999999},{"$f":"AC22+AC23+AC24","v":0},{"$f":"AD22+AD23+AD24","v":0},{"$f":"AE22+AE23+AE24","v":37363.033000000003},{"$f":"AF8-AF18-AF20","v":47943.126900000003},{"$f":"SUM(AH21:AK21)","v":0},{"$f":"AH22+AH23+AH24","v":0},{"$f":"AI22+AI23+AI24","v":0},{"$f":"AJ22+AJ23+AJ24","v":0},{"$f":"AK8-AK18-AK20","v":0},{"$f":"SUM(AM21:AP21)","v":0},{"$f":"AM22+AM23+AM24","v":0},{"$f":"AN22+AN23+AN24","v":0},{"$f":"AO22+AO23+AO24","v":0},{"$f":"AP8-AP18-AP20","v":0},{"$f":"SUM(AR21:AU21)","v":0},{"$f":"AR22+AR23+AR24","v":0},{"$f":"AS22+AS23+AS24","v":0},{"$f":"AT22+AT23+AT24","v":0},{"$f":"AU8-AU18-AU20","v":0}]
["4.1.","потребителям, присоединенным к сети",{"$f":"SUM(D22:G22)","v":166393.74289106767},null,null,70263.461570253814,96130.281320813854,{"$f":"SUM(I22:L22)","v":171951.69180000003},null,null,75022.201000000001,96929.490800000014,{"$f":"SUM(N22:Q22)","v":170860.16055050731},null,null,71429.980235757146,99430.180314750178,{"$f":"SUM(S22:V22)","v":171951.6918},{"$f":"X22+AC22","v":0},{"$f":"Y22+AD22","v":0},{"$f":"Z22+AE22","v":75022.201000000001},{"$f":"AA22+AF22","v":96929.4908},{"$f":"SUM(X22:AA22)","v":86645.532000000007},null,null,37659.167999999998,48986.364000000001,{"$f":"SUM(AC22:AF22)","v":85306.159799999994},null,null,37363.033000000003,47943.126799999998,{"$f":"SUM(AH22:AK22)","v":0},null,null,null,null,{"$f":"SUM(AM22:AP22)","v":0},null,null,null,null,{"$f":"SUM(AR22:AU22)","v":0}]
["4.2.","переток в филиал \"Владимирэнерго\" ПАО «Россети Центр и Приволжье»",{"$f":"SUM(D23:G23)","v":0},null,null,null,null,{"$f":"SUM(I23:L23)","v":0},null,null,null,null,{"$f":"SUM(N23:Q23)","v":0},null,null,0,0,{"$f":"SUM(S23:V23)","v":0},null,null,null,null,{"$f":"SUM(X23:AA23)","v":0},null,null,null,null,{"$f":"SUM(AC23:AF23)","v":0},null,null,null,null,{"$f":"SUM(AH23:AK23)","v":0},null,null,null,null,{"$f":"SUM(AM23:AP23)","v":0},null,null,null,null,{"$f":"SUM(AR23:AU23)","v":0}]
["4.3.","переток в другие сетевые организации",{"$f":"SUM(D24:G24)","v":2664.7172089323126},null,null,2664.7172089323126,0,{"$f":"SUM(I24:L24)","v":0},null,null,null,null,{"$f":"SUM(N24:Q24)","v":2399.1814494927567},null,null,2399.1814494927567,0,{"$f":"SUM(S24:V24)","v":0},null,null,null,null,{"$f":"SUM(X24:AA24)","v":0},null,null,null,null,{"$f":"SUM(AC24:AF24)","v":0},null,null,null,null,{"$f":"SUM(AH24:AK24)","v":0},null,null,null,null,{"$f":"SUM(AM24:AP24)","v":0},null,null,null,null,{"$f":"SUM(AR24:AU24)","v":0}]
[null,"Проверка",null,{"$f":"D8-D18-D20-D22-D23-D24-E11-F11-G11","v":0},{"$f":"E8-E18-E20-E22-E23-E24-F12-G12","v":0},{"$f":"F8-F18-F20-F22-F23-F24-G13","v":0},{"$f":"G8-G18-G20-G22-G23-G24","v":1.4551915228366852E-11},null,{"$f":"I8-I18-I20-I22-I23-I24-J11-K11-L11","v":0},{"$f":"J8-J18-J20-J22-J23-J24-K12-L12","v":0},{"$f":"K8-K18-K20-K22-K23-K24-L13","v":0},{"$f":"L8-L18-L20-L22-L23-L24","v":-1.4551915228366852E-11},null,{"$f":"N8-N18-N20-N22-N23-N24-O11-P11-Q11","v":0},{"$f":"O8-O18-O20-O22-O23-O24-P12-Q12","v":0},{"$f":"P8-P18-P20-P22-P23-P24-Q13","v":0},{"$f":"Q8-Q18-Q20-Q22-Q23-Q24","v":1.4551915228366852E-11},null,{"$f":"S8-S18-S20-S22-S23-S24-T11-U11-V11","v":0},{"$f":"T8-T18-T20-T22-T23-T24-U12-V12","v":0},{"$f":"U8-U18-U20-U22-U23-U24-V13","v":0},{"$f":"V8-V18-V20-V22-V23-V24","v":0},null,{"$f":"X8-X18-X20-X22-X23-X24-Y11-Z11-AA11","v":0},{"$f":"Y8-Y18-Y20-Y22-Y23-Y24-Z12-AA12","v":0},{"$f":"Z8-Z18-Z20-Z22-Z23-Z24-AA13","v":0},{"$f":"AA8-AA18-AA20-AA22-AA23-AA24","v":0},null,{"$f":"AC8-AC18-AC20-AC22-AC23-AC24-AD11-AE11-AF11","v":0},{"$f":"AD8-AD18-AD20-AD22-AD23-AD24-AE12-AF12","v":0},{"$f":"AE8-AE18-AE20-AE22-AE23-AE24-AF13","v":0},{"$f":"AF8-AF18-AF20-AF22-AF23-AF24","v":1.0000000474974513E-4},null,{"$f":"AH8-AH18-AH20-AH22-AH23-AH24-AI11-AJ11-AK11","v":0},{"$f":"AI8-AI18-AI20-AI22-AI23-AI24-AJ12-AK12","v":0},{"$f":"AJ8-AJ18-AJ20-AJ22-AJ23-AJ24-AK13","v":0},{"$f":"AK8-AK18-AK20-AK22-AK23-AK24","v":0},null,{"$f":"AM8-AM18-AM20-AM22-AM23-AM24-AN11-AO11-AP11","v":0},{"$f":"AN8-AN18-AN20-AN22-AN23-AN24-AO12-AP12","v":0},{"$f":"AO8-AO18-AO20-AO22-AO23-AO24-AP13","v":0},{"$f":"AP8-AP18-AP20-AP22-AP23-AP24","v":0},null,{"$f":"AR8-AR18-AR20-AR22-AR23-AR24-AS11-AT11-AU11","v":0},{"$f":"AS8-AS18-AS20-AS22-AS23-AS24-AT12-AU12","v":0},{"$f":"AT8-AT18-AT20-AT22-AT23-AT24-AU13","v":0},{"$f":"AU8-AU18-AU20-AU22-AU23-AU24","v":0}]

{"sheet":"Баланс мощности","index":1,"n_rows":26,"n_cols":12,"rows_kept":26,"cut":false,"hidden":false,"merged":[[1,1,1,6],[5,2,5,6],[5,7,5,11],[5,0,6,0],[5,1,6,1],[2,1,2,5]]}
[]
[null,"Электрическая мощность по диапазонам напряжения "]
[null,{"$f":"#REF!","v":{"$error":"#REF!"}}]
[]
[null,null,null,null,null,null,"МВт"]
["№ п.п.","Показатели","По данным организации на 2025 год",null,null,null,null,"По данным экспертов на 2025 год"]
[null,null,"Всего","ВН","СН1","СН2","НН","Всего","ВН","СН1","СН2","НН"]
[1,2,3,4,5,6,7,8,9,10,11,12]
["1.","Поступление мощности в сеть , ВСЕГО ",{"$f":"C19+C21+C22","v":29.1252},{"$f":"D15+D16+D17+D18","v":28.691660800000001},{"$f":"E10+E15+E16+E17+E18","v":0.43353920000000001},{"$f":"F10+F15+F16+F17+F18","v":29.1252},{"$f":"G10+G15+G16+G17+G18","v":16.610906524666536},{"$f":"H19+H21+H22","v":0},{"$f":"I15+I16+I17+I18","v":0},{"$f":"J10+J15+J16+J17+J18","v":0},{"$f":"K10+K15+K16+K17+K18","v":0},{"$f":"L10+L15+L16+L17+L18","v":0}]
["1.1.","из смежной сети, всего","х","х",{"$f":"E12","v":0},{"$f":"F12+F13","v":29.1252},{"$f":"G12+G13+G14","v":16.610906524666536},"х","х",{"$f":"J12","v":0},{"$f":"K12+K13","v":0},{"$f":"L12+L13+L14","v":0}]
[null,"    в том числе из сети","х","х","х","х","х","х","х","х","х","х"]
["1.1.1.","ВН","х","х",null,{"$f":"D9-D19-D21-D22-G12-E12","v":28.691660800000001},null,"х","х",null,{"$f":"I9-I19-I21-I22-L12-J12","v":0}]
["1.1.2.","СН1","х","х","х",{"$f":"E9-E19-E21-E22-G13","v":0.43353920000000001},null,"х","х","х",{"$f":"J9-J19-J21-J22-L13","v":0}]
["1.1.3.","СН2","х","х","х","х",{"$f":"F9-F19-F21-F22","v":16.610906524666536},"х","х","х","х",{"$f":"K9-K19-K21-K22","v":0}]
["1.2.","от электростанций",{"$f":"SUM(D15:G15)","v":0},null,null,null,null,{"$f":"SUM(I15:L15)","v":0}]
["1.3.","от ПАО \"Россети ФСК ЕЭС\"",{"$f":"SUM(D16:G16)","v":0},null,null,null,null,{"$f":"SUM(I16:L16)","v":0}]
["1.4.","от филиала \"Владимирэнерго\" ПАО «Россети Центр и Приволжье»",{"$f":"SUM(D17:G17)","v":29.1252},{"$f":"28.6707244+0.0209364","v":28.691660800000001},0.43353920000000001,null,null,{"$f":"SUM(I17:L17)","v":0}]
["1.5.","от других сетевых организаций",{"$f":"SUM(D18:G18)","v":0},null,null,null,null,{"$f":"SUM(I18:L18)","v":0}]
["2.","Потери мощности в сети ",{"$f":"SUM(D19:G19)","v":2.1871},{"$f":"D9*D20/100","v":0},{"$f":"E9*E20/100","v":0},{"$f":"F9*F20/100","v":1.0996724753334628},{"$f":"G9*G20/100","v":1.0874275246665372},{"$f":"SUM(I19:L19)","v":0},{"$f":"I9*I20/100","v":0},{"$f":"J9*J20/100","v":0},{"$f":"K9*K20/100","v":0},{"$f":"L9*L20/100","v":0}]
["2.1.","то же в % (п.2./п.1.)",{"$f":"IF(C9=0,0,C19/C9*100)","v":7.5093046571354014},{"$f":"'Баланс энергии'!S19","v":0},{"$f":"'Баланс энергии'!T19","v":0},{"$f":"'Баланс энергии'!U19","v":3.7756735587514001},6.5464670639844407,{"$f":"IF(H9=0,0,H19/H9*100)","v":0},{"$f":"'Баланс энергии'!AH19","v":0},{"$f":"'Баланс энергии'!AI19","v":0},{"$f":"'Баланс энергии'!AJ19","v":0}]
["3.","Расход электроэнергии на производственные и хознужды",{"$f":"SUM(D21:G21)","v":0},null,null,null,null,{"$f":"SUM(I21:L21)","v":0}]
["4.","Полезный отпуск из сети ",{"$f":"SUM(D22:G22)","v":26.938099999999999},{"$f":"D23+D24+D25","v":0},{"$f":"E23+E24+E25","v":0},{"$f":"F23+F24+F25","v":11.414621},{"$f":"G9-G19-G21","v":15.523478999999998},{"$f":"SUM(I22:L22)","v":0},{"$f":"I23+I24+I25","v":0},{"$f":"J23+J24+J25","v":0},{"$f":"K23+K24+K25","v":0},{"$f":"L9-L19-L21","v":0}]
["4.1.","потребителям, присоединенным к сети",{"$f":"SUM(D23:G23)","v":26.938099999999999},null,null,11.414621,15.523478999999998,{"$f":"SUM(I23:L23)","v":0}]
["4.2.","переток в филиал \"Владимирэнерго\" ПАО «Россети Центр и Приволжье»",{"$f":"SUM(D24:G24)","v":0},null,null,null,null,{"$f":"SUM(I24:L24)","v":0}]
["4.3.","переток в другие сетевые организации",{"$f":"SUM(D25:G25)","v":0},null,null,null,null,{"$f":"SUM(I25:L25)","v":0}]
[null,"Проверка",null,{"$f":"D9-D19-D21-D23-D24-D25-E12-F12-G12","v":0},{"$f":"E9-E19-E21-E23-E24-E25-F13-G13","v":0},{"$f":"F9-F19-F21-F23-F24-F25-G14","v":0},{"$f":"G9-G19-G21-G23-G24-G25","v":0},null,{"$f":"I9-I19-I21-I23-I24-I25-J12-K12-L12","v":0},{"$f":"J9-J19-J21-J23-J24-J25-K13-L13","v":0},{"$f":"K9-K19-K21-K23-K24-K25-L14","v":0},{"$f":"L9-L19-L21-L23-L24-L25","v":0}]

{"sheet":"Расходы ком. учет","index":2,"n_rows":45,"n_cols":5,"rows_kept":45,"cut":false,"hidden":true,"merged":[[0,0,0,4],[1,0,1,4],[11,1,11,2],[13,1,13,2],[13,3,13,4]]}
["Расходы, предусмотренные пунктом 5 статьи 37 Федерального закона от 26 марта 2003 г. N 35-ФЗ \"Об электроэнергетике\" по обеспечению коммерческого учета ээ"]
[{"$f":"#REF!","v":{"$error":"#REF!"}}]
[null,null,null,"тыс. руб."]
[null,"№ п/п","Наименование показателя","Расчет организации","Расчет экспертов"]
[null,"1.","Расходы на приобретение, установку, замену приборов учета"]
[null,"2.","Расходы на допуск в эксплуатацию и поверку приборов учета"]
[null,"3.","Расходы на  приобретение и эксплуатацию нематериальных активов, которые необходимы для обеспечения коммерческого учета"]
[]
[]
[]
[]
[null,"Расходы по обеспечению коммерческого учета ээ ",null,{"$f":"SUM(D5:D11)","v":0},{"$f":"SUM(E5:E11)","v":0}]
[]
[null,"Руководитель организации",null,{"$f":"#REF!","v":{"$error":"#REF!"}}]
[]
[]
[]
[]
[]
[]
[null,null,"В соответствии с положениями пункта 5 статьи 37 Федерального закона от 26 марта 2003 г. № 35-ФЗ «Об электроэнергетике», введенным в действие с 01.07.2020 г. федеральным законом от 27.12.2018 г. № 522-ФЗ:"]
[null,null,"«О внесении изменений в отдельные законодательные акты Российской Федерации в связи с развитием систем учета электрической энергии (мощности) в Российской Федерации»:"]
[null,null,"«Сетевые организации в ходе обеспечения коммерческого учета электрической энергии . . . обязаны осуществлять приобретение, установку, замену, допуск в эксплуатацию приборов учета электрической энергии и (или) иного оборудования,"]
[null,null," а также нематериальных активов, которые необходимы для обеспечения коммерческого учета электрической энергии . . . при отсутствии, выходе из строя, истечении срока эксплуатации или истечении интервала между поверками приборов учета "]
[null,null,"электрической энергии и (или) иного оборудования, которые используются для коммерческого учета электрической энергии (мощности)»."]
[]
[null,null,"В соответствии с п. 3 ст. 23.2 Федерального закона от 26 марта 2003 года № 35-ФЗ «Об электроэнергетике» расходы сетевой организации, понесенные ею для исполнения обязательств, предусмотренных пунктом 5 статьи 37 настоящего Федерального закона, "]
[null,null,"подлежат включению в состав тарифа на услуги по передаче электрической энергии и (или) платы за технологическое присоединение в соответствии с законодательством Российской Федерации об электроэнергетике."]
[null,null,"Расходы сетевой организации, понесенные ею для обеспечения коммерческого учета электрической энергии (мощности), в случаях, не указанных в пункте 5 статьи 37 настоящего Федерального закона, не учитываются при государственном регулировании тарифов."]
[null,null,"Финансирование таких расходов осуществляется за счет собственных и привлеченных средств, а также иных не запрещенных законом источников, в том числе средств, полученных в результате экономии, достигнутой сетевой организацией "]
[null,null,"при осуществлении регулируемых видов деятельности в результате проведения мероприятий по сокращению объема используемых энергетических ресурсов (в том числе потерь энергетических ресурсов при их передаче (поставке) и иных операционных расходов."]
[]
[null,null,"При этом, согласно п. 2 Постановления Правительства РФ от 18 апреля 2020 года № 554 «О внесении изменений в некоторые акты Правительства Российской Федерации по вопросам совершенствования организации учета электрической энергии»:"]
[null,null,"«Используемые на дату вступления в силу настоящего постановления приборы учета электрической энергии, не соответствующие требованиям, указанным в разделе X Основных положений функционирования розничных рынков электрической энергии,"]
[null,null," утвержденных постановлением Правительства Российской Федерации от 4 мая 2012 г. № 442 «О функционировании розничных рынков электрической энергии, полном и (или) частичном ограничении режима потребления электрической энергии», "]
[null,null,"могут быть использованы вплоть до истечения установленного для них межповерочного интервала, до истечения срока эксплуатации либо до момента выхода таких приборов учета из строя или их утраты»."]
[]
[null,null,"В соответствии с положениями пункта 5 статьи 37 Федерального закона от 26 марта 2003 г. № 35-ФЗ «Об электроэнергетике», введенным в действие с 01.07.2020 г. федеральным законом от 27.12.2018 г. № 522-ФЗ:"]
[null,null,"По всем приборам учета электрической энергии, допускаемым в эксплуатацию для целей коммерческого учета электрической энергии (мощности) . . . после 1 января 2022 года, . . . сетевыми организациями должно быть обеспечено безвозмездное предоставление субъектам электроэнергетики и потребителям электрической энергии (мощности),"]
[null,null," в отношении которых они обеспечивают коммерческий учет электрической энергии (мощности), минимального набора функций интеллектуальных систем учета электрической энергии (мощности) в порядке, установленном правилами предоставления доступа к минимальному набору функций"]
[null,null," интеллектуальных систем учета электрической энергии (мощности), с использованием созданных гарантирующими поставщиками и сетевыми организациями интеллектуальных систем учета электрической энергии (мощности)."]
[]
[null,null,"С 1 января 2023 года в случае непредоставления или ненадлежащего предоставления . . . сетевой организацией доступа к минимальному набору функций интеллектуальных систем учета электрической энергии (мощности)"]
[null,null," субъект электроэнергетики или потребитель электрической энергии (мощности) вправе потребовать уплаты штрафа. Размер штрафа устанавливается в виде фиксированной суммы, определенной в порядке,"]
[null,null," установленном правилами предоставления доступа к минимальному набору функций интеллектуальных систем учета электрической энергии (мощности)."]

{"sheet":"НВВ по данным экспертов","index":3,"n_rows":73,"n_cols":11,"rows_kept":73,"cut":false,"hidden":true,"merged":[[69,0,69,6],[74,0,74,1],[74,2,74,4],[21,0,21,6],[27,0,27,6],[29,0,29,6],[47,0,47,6],[55,0,55,6],[64,0,64,6],[4,7,5,7],[4,8,5,8],[4,9,5,9],[4,10,5,10],[7,0,7,6],[15,0,15,6],[1,0,1,6],[2,0,2,6],[4,0,5,0],[4,1,5,1],[4,2,5,2],[4,3,4,4],[4,5,5,5],[4,6,5,6]]}
[]
["Расчет необходимой валовой выручки (НВВ) на оказание услуги по передаче электрической энергии долгосрочного периода регулирования 2025- 2029 годы по данным экспертов"]
[{"$f":"#REF!","v":{"$error":"#REF!"}}]
[]
["№ п.п.","Наименование","Ед.изм.","2023 год",null,"2024 год утверждено","2025 год","2026 год","2027 год","2028 год","2029 год"]
[null,null,null,"Утверждено","Факт"]
[1,2,3,4,5,6,7,8,9,10,11]
["Долгосрочные параметры регулирования"]
[1,"Базовый уровень подконтрольных расходов (ПР)","тыс.руб.","х","х","х",{"$f":"#REF!","v":{"$error":"#REF!"}},"х","х","х","х"]
[2,"Индекс эффективности подконтрольных расходов (Хэф)","%",{"$f":"#REF!","v":{"$error":"#REF!"}},{"$f":"D10","v":{"$error":"#REF!"}},{"$f":"D10","v":{"$error":"#REF!"}},{"$f":"#REF!","v":{"$error":"#REF!"}},{"$f":"$G$10","v":{"$error":"#REF!"}},{"$f":"$G$10","v":{"$error":"#REF!"}},{"$f":"$G$10","v":{"$error":"#REF!"}},{"$f":"$G$10","v":{"$error":"#REF!"}}]
[3,"Коэффициент эластичности подконтрольных расходов по количеству активов (К эл)","знач.",0.75,0.75,0.75,0.75,0.75,0.75,0.75,0.75]
[5,"Уровень надежности и качества оказываемых услуг","х","х","х","х","х","х","х","х","х"]
["5.1.","Показатель средней продолжительности прекращений передачи электрической энергии на точку поставки (Пsaidi), час.","знач.","х","х","х"]
["5.2.","Показатель средней частоты прекращений передачи электрической энергии на точку поставки (Пsaifi), шт.","знач.","х","х","х"]
["5.3.","Показатель уровня качества осуществляемого технологического присоединения (Птпр)","знач.","х","х","х"]
["Планируемые значения параметров расчета тарифов"]
[1,"Индекс потребительских цен (ИПЦ)","%","х","х",{"$f":"#REF!","v":{"$error":"#REF!"}},{"$f":"#REF!","v":{"$error":"#REF!"}},{"$f":"#REF!","v":{"$error":"#REF!"}},{"$f":"#REF!","v":{"$error":"#REF!"}},{"$f":"#REF!","v":{"$error":"#REF!"}},{"$f":"#REF!","v":{"$error":"#REF!"}}]
[2,"Количество активов (УЕ)","усл.ед.",{"$f":"#REF!","v":{"$error":"#REF!"}},{"$f":"#REF!","v":{"$error":"#REF!"}},{"$f":"#REF!","v":{"$error":"#REF!"}},{"$f":"#REF!","v":{"$error":"#REF!"}},{"$f":"#REF!","v":{"$error":"#REF!"}},{"$f":"#REF!","v":{"$error":"#REF!"}},{"$f":"#REF!","v":{"$error":"#REF!"}},{"$f":"#REF!","v":{"$error":"#REF!"}}]
[3,"Величина неподконтрольных расходов (НР)","тыс.руб.",{"$f":"D46","v":{"$error":"#REF!"}},{"$error":"#REF!"},{"$error":"#REF!"},{"$error":"#REF!"},{"$error":"#REF!"},{"$error":"#REF!"},{"$error":"#REF!"},{"$error":"#REF!"}]
[4,"Величина полезного отпуска электрической энергии","млн.кВт.ч.",{"$f":"'Баланс энергии'!C21-'Баланс энергии'!C23","v":169058.4601},{"$f":"'Баланс энергии'!H21-'Баланс энергии'!H23","v":171951.6918},{"$f":"'Баланс энергии'!M21-'Баланс энергии'!M23","v":173259.34200000009},{"$f":"'Баланс энергии'!AG21-'Баланс энергии'!AG23","v":0},{"$f":"$G$20","v":0},{"$f":"$G$20","v":0},{"$f":"$G$20","v":0},{"$f":"$G$20","v":0}]
[5,"Прогнозная цена (тариф) покупки потерь электрической энергии","руб./МВт.ч.",{"$f":"D67","v":{"$error":"#REF!"}},{"$error":"#REF!"},{"$error":"#REF!"},{"$error":"#REF!"},{"$error":"#REF!"},{"$error":"#REF!"},{"$error":"#REF!"},{"$error":"#REF!"}]
["Расчетные показатели"]
[1,"Доля подконтрольных расходов на МВт.ч.","руб.МВт.ч.",{"$f":"IF(D20=0,0,D29/D20/10)","v":{"$error":"#REF!"}},{"$error":"#REF!"},{"$error":"#REF!"},0,0,0,0,0]
[2,"Проверка прибыли на капитальные вложения (не более 12 % от НВВ на содержание сетей)","%","х","х","х",{"$f":"IF(G25=0,0,G43/G25)","v":{"$error":"#REF!"}},{"$f":"IF(H25=0,0,I43/H25)","v":{"$error":"#REF!"}},{"$f":"IF(I25=0,0,K43/I25)","v":{"$error":"#REF!"}},{"$f":"IF(J25=0,0,#REF!/J25)","v":{"$error":"#REF!"}},{"$f":"IF(K25=0,0,L43/K25)","v":{"$error":"#REF!"}}]
[3,"НВВ для расчета КВЛ ","тыс.руб.","х","х","х",{"$f":"G64-#REF!/0.8-#REF!-#REF!-#REF!","v":{"$error":"#REF!"}},{"$f":"H64-#REF!/0.8-#REF!-#REF!-#REF!","v":{"$error":"#REF!"}},{"$f":"I64-#REF!/0.8-#REF!-#REF!-#REF!","v":{"$error":"#REF!"}},{"$f":"J64-#REF!/0.8-#REF!-#REF!-#REF!","v":{"$error":"#REF!"}},{"$f":"K64-#REF!/0.8-#REF!-#REF!-#REF!","v":{"$error":"#REF!"}}]
[4,"Индекс изменения количества активов (ИКА)","%","х","х","х",{"$f":"#REF!","v":{"$error":"#REF!"}},{"$f":"#REF!","v":{"$error":"#REF!"}},{"$f":"#REF!","v":{"$error":"#REF!"}},{"$f":"#REF!","v":{"$error":"#REF!"}},{"$f":"#REF!","v":{"$error":"#REF!"}}]
[5,"Общий коэффициент индексации подконтрольных расходов ПР= ИПЦ*(1+(Кэл*ИКА))*(1-Хэф)","знач.","х","х","х",{"$f":"#REF!","v":{"$error":"#REF!"}},{"$f":"#REF!","v":{"$error":"#REF!"}},{"$f":"#REF!","v":{"$error":"#REF!"}},{"$f":"#REF!","v":{"$error":"#REF!"}},{"$f":"#REF!","v":{"$error":"#REF!"}}]
["Подконтрольные расходы организации (ПР)"]
[null,"Итого ПР с учетом индексации:","тыс.руб.",{"$f":"#REF!","v":{"$error":"#REF!"}},{"$f":"#REF!","v":{"$error":"#REF!"}},{"$f":"#REF!","v":{"$error":"#REF!"}},{"$f":"#REF!","v":{"$error":"#REF!"}},{"$f":"#REF!","v":{"$error":"#REF!"}},{"$f":"#REF!","v":{"$error":"#REF!"}},{"$f":"#REF!","v":{"$error":"#REF!"}},{"$f":"#REF!","v":{"$error":"#REF!"}}]
[]
[1,"Амортизация основных средств","тыс.руб.",{"$f":"#REF!","v":{"$error":"#REF!"}},{"$f":"#REF!","v":{"$error":"#REF!"}},{"$f":"#REF!","v":{"$error":"#REF!"}},{"$f":"#REF!","v":{"$error":"#REF!"}},{"$f":"#REF!","v":{"$error":"#REF!"}},{"$f":"#REF!","v":{"$error":"#REF!"}},{"$f":"#REF!","v":{"$error":"#REF!"}},{"$f":"#REF!","v":{"$error":"#REF!"}}]
[2,"Страховые взносы","тыс.руб.",{"$f":"#REF!","v":{"$error":"#REF!"}},{"$f":"#REF!","v":{"$error":"#REF!"}},{"$f":"#REF!","v":{"$error":"#REF!"}},{"$f":"#REF!","v":{"$error":"#REF!"}},{"$f":"#REF!","v":{"$error":"#REF!"}},{"$f":"#REF!","v":{"$error":"#REF!"}},{"$f":"#REF!","v":{"$error":"#REF!"}},{"$f":"#REF!","v":{"$error":"#REF!"}}]
[3,"Расходы на оплату услуг организаций, осуществляющие регулируемые виды деятельности","тыс.руб.",{"$f":"#REF!","v":{"$error":"#REF!"}},{"$f":"#REF!","v":{"$error":"#REF!"}},{"$f":"#REF!","v":{"$error":"#REF!"}},{"$f":"#REF!","v":{"$error":"#REF!"}},{"$f":"#REF!","v":{"$error":"#REF!"}},{"$f":"#REF!","v":{"$error":"#REF!"}},{"$f":"#REF!","v":{"$error":"#REF!"}},{"$f":"#REF!","v":{"$error":"#REF!"}}]
[4,"Налоги и сборы, в том числе:","тыс.руб.",{"$f":"SUM(D35:D39)","v":{"$error":"#REF!"}},{"$f":"SUM(E35:E39)","v":{"$error":"#REF!"}},{"$error":"#REF!"},{"$error":"#REF!"},{"$error":"#REF!"},{"$error":"#REF!"},{"$error":"#REF!"},{"$error":"#REF!"}]
["4.1","Плата за землю","тыс.руб.",{"$f":"#REF!","v":{"$error":"#REF!"}},{"$f":"#REF!","v":{"$error":"#REF!"}},{"$f":"#REF!","v":{"$error":"#REF!"}},{"$f":"#REF!","v":{"$error":"#REF!"}},{"$f":"#REF!","v":{"$error":"#REF!"}},{"$f":"#REF!","v":{"$error":"#REF!"}},{"$f":"#REF!","v":{"$error":"#REF!"}},{"$f":"#REF!","v":{"$error":"#REF!"}}]
["4.2","Транспортный налог","тыс.руб.",{"$f":"#REF!","v":{"$error":"#REF!"}},{"$f":"#REF!","v":{"$error":"#REF!"}},{"$f":"#REF!","v":{"$error":"#REF!"}},{"$f":"#REF!","v":{"$error":"#REF!"}},{"$f":"#REF!","v":{"$error":"#REF!"}},{"$f":"#REF!","v":{"$error":"#REF!"}},{"$f":"#REF!","v":{"$error":"#REF!"}},{"$f":"#REF!","v":{"$error":"#REF!"}}]
["4.3","Налог на имущество","тыс.руб.",{"$f":"#REF!","v":{"$error":"#REF!"}},{"$f":"#REF!","v":{"$error":"#REF!"}},{"$f":"#REF!","v":{"$error":"#REF!"}},{"$f":"#REF!","v":{"$error":"#REF!"}},{"$f":"#REF!","v":{"$error":"#REF!"}},{"$f":"#REF!","v":{"$error":"#REF!"}},{"$f":"#REF!","v":{"$error":"#REF!"}},{"$f":"#REF!","v":{"$error":"#REF!"}}]
["4.4","Плата за негативное воздействие на окружающую среду","тыс.руб.",{"$f":"#REF!","v":{"$error":"#REF!"}},{"$f":"#REF!","v":{"$error":"#REF!"}},{"$f":"#REF!","v":{"$error":"#REF!"}},{"$f":"#REF!","v":{"$error":"#REF!"}},{"$f":"#REF!","v":{"$error":"#REF!"}},{"$f":"#REF!","v":{"$error":"#REF!"}},{"$f":"#REF!","v":{"$error":"#REF!"}},{"$f":"#REF!","v":{"$error":"#REF!"}}]
["4.5","Налог на прибыль","тыс.руб.",{"$f":"#REF!","v":{"$error":"#REF!"}},{"$f":"#REF!","v":{"$error":"#REF!"}},{"$f":"#REF!","v":{"$error":"#REF!"}},{"$f":"#REF!","v":{"$error":"#REF!"}},{"$f":"#REF!","v":{"$error":"#REF!"}},{"$f":"#REF!","v":{"$error":"#REF!"}},{"$f":"#REF!","v":{"$error":"#REF!"}},{"$f":"#REF!","v":{"$error":"#REF!"}}]
["5","Плата за аренду имущества","тыс.руб.",{"$f":"#REF!","v":{"$error":"#REF!"}},{"$f":"#REF!","v":{"$error":"#REF!"}},{"$f":"#REF!","v":{"$error":"#REF!"}},{"$f":"#REF!","v":{"$error":"#REF!"}},{"$f":"#REF!","v":{"$error":"#REF!"}},{"$f":"#REF!","v":{"$error":"#REF!"}},{"$f":"#REF!","v":{"$error":"#REF!"}},{"$f":"#REF!","v":{"$error":"#REF!"}}]
["6","Оплата услуг ПАО \"Россети\"","тыс.руб.",{"$f":"#REF!","v":{"$error":"#REF!"}},{"$f":"#REF!","v":{"$error":"#REF!"}},{"$f":"#REF!","v":{"$error":"#REF!"}},{"$f":"#REF!","v":{"$error":"#REF!"}},{"$f":"#REF!","v":{"$error":"#REF!"}},{"$f":"#REF!","v":{"$error":"#REF!"}},{"$f":"#REF!","v":{"$error":"#REF!"}},{"$f":"#REF!","v":{"$error":"#REF!"}}]
["7","Прочие обоснованные неподконтрольные расходы","тыс.руб.",{"$f":"#REF!","v":{"$error":"#REF!"}},{"$f":"#REF!","v":{"$error":"#REF!"}},{"$f":"#REF!","v":{"$error":"#REF!"}},{"$f":"#REF!","v":{"$error":"#REF!"}},{"$f":"#REF!","v":{"$error":"#REF!"}},{"$f":"#REF!","v":{"$error":"#REF!"}},{"$f":"#REF!","v":{"$error":"#REF!"}},{"$f":"#REF!","v":{"$error":"#REF!"}}]
["8","Капитальные вложения производственного характера из прибыли","тыс.руб.",{"$f":"#REF!","v":{"$error":"#REF!"}},{"$f":"#REF!","v":{"$error":"#REF!"}},{"$f":"#REF!","v":{"$error":"#REF!"}},{"$f":"#REF!","v":{"$error":"#REF!"}},{"$f":"#REF!","v":{"$error":"#REF!"}},{"$f":"#REF!","v":{"$error":"#REF!"}},{"$f":"#REF!","v":{"$error":"#REF!"}},{"$f":"#REF!","v":{"$error":"#REF!"}}]
["9","Расходы, связанные с компенсацией выпадающих доходов от льготного технологического присоединения","тыс.руб.",{"$f":"#REF!","v":{"$error":"#REF!"}},"х",{"$f":"#REF!","v":{"$error":"#REF!"}},{"$f":"#REF!","v":{"$error":"#REF!"}},"х","х","х","х"]
["10",{"$f":"#REF!","v":{"$error":"#REF!"}},"тыс.руб.",{"$f":"#REF!","v":{"$error":"#REF!"}},{"$f":"#REF!","v":{"$error":"#REF!"}},{"$f":"#REF!","v":{"$error":"#REF!"}},{"$f":"#REF!","v":{"$error":"#REF!"}},{"$f":"#REF!","v":{"$error":"#REF!"}},{"$f":"#REF!","v":{"$error":"#REF!"}},{"$f":"#REF!","v":{"$error":"#REF!"}},{"$f":"#REF!","v":{"$error":"#REF!"}}]
[null,"Итого НР:","тыс.руб.",{"$f":"SUM(D31:D34,D40:D45)","v":{"$error":"#REF!"}},{"$f":"SUM(E31:E34,E40:E45)","v":{"$error":"#REF!"}},{"$error":"#REF!"},{"$error":"#REF!"},{"$error":"#REF!"},{"$error":"#REF!"},{"$error":"#REF!"},{"$error":"#REF!"}]
[]
["Корректировка необходимой валовой выручки "]
["1","Корректировка подконтрольных расходов","тыс.руб.",{"$f":"#REF!","v":{"$error":"#REF!"}},{"$f":"#REF!","v":{"$error":"#REF!"}},{"$f":"#REF!","v":{"$error":"#REF!"}},{"$f":"#REF!","v":{"$error":"#REF!"}},"x","x","x","x"]
["2","Корректировка неподконтрольных расходов","тыс.руб.",{"$f":"#REF!","v":{"$error":"#REF!"}},{"$f":"#REF!","v":{"$error":"#REF!"}},{"$f":"#REF!","v":{"$error":"#REF!"}},{"$f":"#REF!","v":{"$error":"#REF!"}},"x","x","x","x"]
["3","Корректировка НВВ с учетом изменения полезного отпуска и цен на электрическую энергию ","тыс.руб.",{"$f":"#REF!","v":{"$error":"#REF!"}},{"$f":"#REF!","v":{"$error":"#REF!"}},{"$f":"#REF!","v":{"$error":"#REF!"}},{"$f":"#REF!","v":{"$error":"#REF!"}},"x","x","x","x"]
["4","Корректировка необходимой валовой выручки по доходам от осуществления регулируемой деятельности","тыс.руб.",{"$f":"#REF!","v":{"$error":"#REF!"}},{"$f":"#REF!","v":{"$error":"#REF!"}},{"$f":"#REF!","v":{"$error":"#REF!"}},{"$f":"#REF!","v":{"$error":"#REF!"}},"x","x","x","x"]
["5.","Корректировка расходов по обеспечению коммерческого учета ээ ","тыс.руб.",{"$f":"#REF!","v":{"$error":"#REF!"}},{"$f":"#REF!","v":{"$error":"#REF!"}},{"$f":"#REF!","v":{"$error":"#REF!"}},{"$f":"#REF!","v":{"$error":"#REF!"}},"x","x","x","x"]
["6","Корректировка НВВ в связи с изменением (неисполнением) инвестиционной программы ","тыс.руб.",{"$f":"#REF!","v":{"$error":"#REF!"}},{"$f":"#REF!","v":{"$error":"#REF!"}},{"$f":"#REF!","v":{"$error":"#REF!"}},{"$f":"#REF!","v":{"$error":"#REF!"}},"x","x","x","x"]
[null,"Итого корректировка НВВ на основании фактических данных ","тыс.руб.",{"$f":"SUM(D49:D54)","v":{"$error":"#REF!"}},"х",{"$f":"SUM(F49:F54)","v":{"$error":"#REF!"}},{"$f":"SUM(G49:G54)","v":{"$error":"#REF!"}},"x","x","x","x"]
["Расходы организации на содержание сетей "]
[1,"Подконтрольные расходы","тыс.руб.",{"$f":"D29","v":{"$error":"#REF!"}},{"$error":"#REF!"},{"$error":"#REF!"},{"$error":"#REF!"},{"$error":"#REF!"},{"$error":"#REF!"},{"$error":"#REF!"},{"$error":"#REF!"}]
[2,"Неподконтрольные расходы","тыс.руб.",{"$f":"D46","v":{"$error":"#REF!"}},{"$error":"#REF!"},{"$error":"#REF!"},{"$error":"#REF!"},{"$error":"#REF!"},{"$error":"#REF!"},{"$error":"#REF!"},{"$error":"#REF!"}]
["3.","Корректировка НВВ на основании фактических данных ","тыс.руб.",{"$f":"D55","v":{"$error":"#REF!"}},"х",{"$f":"F55","v":{"$error":"#REF!"}},{"$f":"G55","v":{"$error":"#REF!"}},"x","x","x","x"]
["4.","Корректировка НВВ с учетом надежности и качества оказываемых услуг ","тыс.руб.",{"$f":"D56","v":0},"х",{"$f":"F56","v":0},{"$f":"#REF!","v":{"$error":"#REF!"}},"x","x","x","x"]
["5.","Экономия расходов на оплату потерь электрической энергии","тыс.руб.",{"$f":"D57","v":{"$error":"#REF!"}},"х",{"$f":"F57","v":{"$error":"#REF!"}},{"$f":"#REF!","v":{"$error":"#REF!"}},"x","x","x","x"]
[]
["6.","Результаты деятельности регулируемой организации в соотв. с п.7 Основ ценообразования ","тыс.руб.",{"$f":"D59","v":{"$error":"#REF!"}},"х",{"$f":"F59","v":{"$error":"#REF!"}},{"$f":"#REF!","v":{"$error":"#REF!"}},"x","x","x","x"]
[null,"Итого расходы на содержание электрических сетей:","тыс.руб.",{"$f":"D57+D58+D59+D60+D61+D62+D63","v":{"$error":"#REF!"}},{"$f":"E57+E58","v":{"$error":"#REF!"}},{"$f":"F57+F58+F59+F60+F61+F62+F63","v":{"$error":"#REF!"}},{"$f":"G57+G58+G59+G60+G61+G62+G63","v":{"$error":"#REF!"}},{"$f":"H57+H58","v":{"$error":"#REF!"}},{"$f":"I57+I58","v":{"$error":"#REF!"}},{"$f":"J57+J58","v":{"$error":"#REF!"}},{"$f":"K57+K58","v":{"$error":"#REF!"}}]
["Расходы организации на компенсацию потерь"]
[1,"Величина технологического расхода (потерь) электрической энергии","млн.кВт.ч.",{"$f":"'Баланс энергии'!C18/1000","v":13.372095708203139},{"$f":"'Баланс энергии'!H18/1000","v":13.424342200000007},{"$f":"#REF!","v":{"$error":"#REF!"}},{"$f":"#REF!","v":{"$error":"#REF!"}},{"$f":"#REF!","v":{"$error":"#REF!"}},{"$f":"#REF!","v":{"$error":"#REF!"}},{"$f":"#REF!","v":{"$error":"#REF!"}},{"$f":"#REF!","v":{"$error":"#REF!"}}]
[2,"Прогнозная цена (тариф) покупки потерь электрической энергии","руб./МВт.ч.",{"$f":"#REF!","v":{"$error":"#REF!"}},{"$f":"#REF!","v":{"$error":"#REF!"}},{"$f":"#REF!","v":{"$error":"#REF!"}},{"$f":"#REF!","v":{"$error":"#REF!"}},{"$f":"#REF!","v":{"$error":"#REF!"}},{"$f":"#REF!","v":{"$error":"#REF!"}},{"$f":"#REF!","v":{"$error":"#REF!"}},{"$f":"#REF!","v":{"$error":"#REF!"}}]
[3,"Доля экономии потерь, не учтенная в расходах на содержание",null,"х","х",{"$f":"#REF!","v":{"$error":"#REF!"}},{"$f":"#REF!","v":{"$error":"#REF!"}},"х","х","х","х"]
[null,"Итого расходы на компенсацию потерь:","тыс.руб.",{"$f":"D66*D67","v":{"$error":"#REF!"}},{"$f":"E66*E67","v":{"$error":"#REF!"}},{"$f":"#REF!","v":{"$error":"#REF!"}},{"$f":"#REF!","v":{"$error":"#REF!"}},{"$f":"#REF!","v":{"$error":"#REF!"}},{"$f":"#REF!","v":{"$error":"#REF!"}},{"$f":"#REF!","v":{"$error":"#REF!"}},{"$f":"#REF!","v":{"$error":"#REF!"}}]
["Необходимая валовая выручка (НВВ) организации на оказание услуги по передаче электрической энергии"]
[1,"Расходы на содержание электрических сетей","тыс.руб.",{"$f":"D64","v":{"$error":"#REF!"}},{"$error":"#REF!"},{"$error":"#REF!"},{"$error":"#REF!"},{"$error":"#REF!"},{"$error":"#REF!"},{"$error":"#REF!"},{"$error":"#REF!"}]
[2,"Расходы на компенсацию потерь","тыс.руб.",{"$f":"D69","v":{"$error":"#REF!"}},{"$error":"#REF!"},{"$error":"#REF!"},{"$error":"#REF!"},{"$error":"#REF!"},{"$error":"#REF!"},{"$error":"#REF!"},{"$error":"#REF!"}]
[null,"Необходимая валовая выручка (НВВ) организации на оказание услуги по передаче электрической энергии","тыс.руб.",{"$f":"D71+D72","v":{"$error":"#REF!"}},{"$error":"#REF!"},{"$error":"#REF!"},{"$error":"#REF!"},{"$error":"#REF!"},{"$error":"#REF!"},{"$error":"#REF!"},{"$error":"#REF!"}]

{"sheet":"TEHSHEET","index":4,"n_rows":18,"n_cols":5,"rows_kept":18,"cut":false,"hidden":true,"merged":[]}
[]
[]
[]
[]
[]
[]
[null,null,null,null,"Январь"]
[null,null,null,null,"Февраль"]
[null,null,null,null,"Март"]
[null,null,null,null,"Апрель"]
[null,null,null,null,"Май"]
[null,null,null,null,"Июнь"]
[null,null,null,null,"Июль"]
[null,null,null,null,"Август"]
[null,null,null,null,"Сентябрь"]
[null,null,null,null,"Октябрь"]
[null,null,null,null,"Ноябрь"]
[null,null,null,null,"Декабрь"]

{"sheet":"Лист1","index":5,"n_rows":0,"n_cols":0,"rows_kept":0,"cut":false,"hidden":false,"merged":[]}